Package: CellScore Version: 1.28.0 Command: /home/biocbuild/R/R/bin/R CMD build --keep-empty-dirs --no-resave-data CellScore StartedAt: 2025-10-13 23:28:44 -0000 (Mon, 13 Oct 2025) EndedAt: 2025-10-13 23:33:22 -0000 (Mon, 13 Oct 2025) EllapsedTime: 278.1 seconds RetCode: 0 Status: OK PackageFile: CellScore_1.28.0.tar.gz PackageFileSize: 4.21 MiB