Package: CellScore Version: 1.28.0 Command: /Library/Frameworks/R.framework/Resources/bin/R CMD build --keep-empty-dirs --no-resave-data CellScore StartedAt: 2025-10-13 20:49:31 -0400 (Mon, 13 Oct 2025) EndedAt: 2025-10-13 20:53:02 -0400 (Mon, 13 Oct 2025) EllapsedTime: 210.9 seconds RetCode: 1 Status: ERROR PackageFile: None PackageFileSize: NA