Package: CellNOptR Version: 1.54.0 Command: /Library/Frameworks/R.framework/Resources/bin/R CMD build --keep-empty-dirs --no-resave-data CellNOptR StartedAt: 2025-10-13 20:48:56 -0400 (Mon, 13 Oct 2025) EndedAt: 2025-10-13 20:49:31 -0400 (Mon, 13 Oct 2025) EllapsedTime: 34.3 seconds RetCode: 0 Status: OK PackageFile: CellNOptR_1.54.0.tar.gz PackageFileSize: 3.591 MiB