Package: CellNOptR Version: 1.54.0 Command: rm -rf CellNOptR.buildbin-libdir && mkdir CellNOptR.buildbin-libdir && /Users/biocbuild/BBS/utils/build-universal.sh CellNOptR_1.54.0.tar.gz /Library/Frameworks/R.framework/Resources/bin/R CellNOptR.buildbin-libdir StartedAt: 2025-10-15 17:45:52 -0400 (Wed, 15 Oct 2025) EndedAt: 2025-10-15 17:46:14 -0400 (Wed, 15 Oct 2025) EllapsedTime: 22.2 seconds RetCode: 0 Status: OK PackageFile: CellNOptR_1.54.0.tgz PackageFileSize: 2.887 MiB