Package: CellMixS Version: 1.24.0 Command: /home/biocbuild/R/R/bin/R CMD INSTALL CellMixS StartedAt: 2025-10-13 21:16:36 -0000 (Mon, 13 Oct 2025) EndedAt: 2025-10-13 21:17:15 -0000 (Mon, 13 Oct 2025) EllapsedTime: 39.1 seconds RetCode: 0 Status: OK