Package: CellMixS Version: 1.24.0 Command: /Library/Frameworks/R.framework/Resources/bin/R CMD INSTALL CellMixS StartedAt: 2025-10-13 18:19:23 -0400 (Mon, 13 Oct 2025) EndedAt: 2025-10-13 18:19:56 -0400 (Mon, 13 Oct 2025) EllapsedTime: 32.6 seconds RetCode: 0 Status: OK