Package: CellMapper Version: 1.34.0 Command: rm -rf CellMapper.buildbin-libdir && mkdir CellMapper.buildbin-libdir && /Users/biocbuild/BBS/utils/build-universal.sh CellMapper_1.34.0.tar.gz /Library/Frameworks/R.framework/Resources/bin/R CellMapper.buildbin-libdir StartedAt: 2025-10-14 12:59:43 -0400 (Tue, 14 Oct 2025) EndedAt: 2025-10-14 12:59:58 -0400 (Tue, 14 Oct 2025) EllapsedTime: 15.1 seconds RetCode: 0 Status: OK PackageFile: CellMapper_1.34.0.tgz PackageFileSize: 350.4 KiB