Package: CellMapper Version: 1.34.0 Command: /home/biocbuild/R/R/bin/R CMD INSTALL CellMapper StartedAt: 2025-10-13 20:23:50 -0000 (Mon, 13 Oct 2025) EndedAt: 2025-10-13 20:23:57 -0000 (Mon, 13 Oct 2025) EllapsedTime: 6.5 seconds RetCode: 0 Status: OK