Package: CellMapper Version: 1.34.0 Command: /Library/Frameworks/R.framework/Resources/bin/R CMD INSTALL CellMapper StartedAt: 2025-10-13 15:33:56 -0400 (Mon, 13 Oct 2025) EndedAt: 2025-10-13 15:34:02 -0400 (Mon, 13 Oct 2025) EllapsedTime: 6.4 seconds RetCode: 0 Status: OK