Package: CellMapper Version: 1.34.0 Command: /Library/Frameworks/R.framework/Resources/bin/R CMD build --keep-empty-dirs --no-resave-data CellMapper StartedAt: 2025-10-13 20:45:57 -0400 (Mon, 13 Oct 2025) EndedAt: 2025-10-13 20:48:45 -0400 (Mon, 13 Oct 2025) EllapsedTime: 167.7 seconds RetCode: 0 Status: OK PackageFile: CellMapper_1.34.0.tar.gz PackageFileSize: 206.1 KiB