Package: CellMapper Version: 1.34.0 Command: rm -rf CellMapper.buildbin-libdir && mkdir CellMapper.buildbin-libdir && /Users/biocbuild/BBS/utils/build-universal.sh CellMapper_1.34.0.tar.gz /Library/Frameworks/R.framework/Resources/bin/R CellMapper.buildbin-libdir StartedAt: 2025-10-15 17:45:34 -0400 (Wed, 15 Oct 2025) EndedAt: 2025-10-15 17:45:42 -0400 (Wed, 15 Oct 2025) EllapsedTime: 8.0 seconds RetCode: 0 Status: OK PackageFile: CellMapper_1.34.0.tgz PackageFileSize: 351.1 KiB