Package: CellBench Version: 1.24.0 Command: /home/biocbuild/bbs-3.21-bioc/R/bin/R CMD INSTALL CellBench StartedAt: 2025-10-15 15:56:52 -0400 (Wed, 15 Oct 2025) EndedAt: 2025-10-15 15:57:19 -0400 (Wed, 15 Oct 2025) EllapsedTime: 27.0 seconds RetCode: 0 Status: OK