Package: CellBench Version: 1.24.0 Command: /home/biocbuild/bbs-3.21-bioc/R/bin/R CMD build --keep-empty-dirs --no-resave-data CellBench StartedAt: 2025-10-15 16:37:09 -0400 (Wed, 15 Oct 2025) EndedAt: 2025-10-15 16:38:03 -0400 (Wed, 15 Oct 2025) EllapsedTime: 54.0 seconds RetCode: 0 Status: OK PackageFile: CellBench_1.24.0.tar.gz PackageFileSize: 3.041 MiB