Package: CellBench Version: 1.24.0 Command: /home/biocbuild/R/R/bin/R CMD INSTALL CellBench StartedAt: 2025-10-13 21:12:39 -0000 (Mon, 13 Oct 2025) EndedAt: 2025-10-13 21:13:19 -0000 (Mon, 13 Oct 2025) EllapsedTime: 39.9 seconds RetCode: 0 Status: OK