Package: CellBench Version: 1.24.0 Command: /Library/Frameworks/R.framework/Resources/bin/R CMD INSTALL CellBench StartedAt: 2025-10-13 18:24:58 -0400 (Mon, 13 Oct 2025) EndedAt: 2025-10-13 18:25:30 -0400 (Mon, 13 Oct 2025) EllapsedTime: 32.3 seconds RetCode: 0 Status: OK