Package: CellBench Version: 1.24.0 Command: /Library/Frameworks/R.framework/Resources/bin/R CMD build --keep-empty-dirs --no-resave-data CellBench StartedAt: 2025-10-13 20:44:47 -0400 (Mon, 13 Oct 2025) EndedAt: 2025-10-13 20:45:57 -0400 (Mon, 13 Oct 2025) EllapsedTime: 70.2 seconds RetCode: 0 Status: OK PackageFile: CellBench_1.24.0.tar.gz PackageFileSize: 3.017 MiB