Package: CeTF Version: 1.20.0 Command: /home/biocbuild/R/R/bin/R CMD INSTALL CeTF StartedAt: 2025-10-13 21:07:34 -0000 (Mon, 13 Oct 2025) EndedAt: 2025-10-13 21:09:01 -0000 (Mon, 13 Oct 2025) EllapsedTime: 87.5 seconds RetCode: 0 Status: OK