Package: CeTF Version: 1.20.0 Command: /home/biocbuild/R/R/bin/R CMD build --keep-empty-dirs --no-resave-data CeTF StartedAt: 2025-10-13 23:30:57 -0000 (Mon, 13 Oct 2025) EndedAt: 2025-10-13 23:35:02 -0000 (Mon, 13 Oct 2025) EllapsedTime: 245.1 seconds RetCode: 0 Status: OK PackageFile: CeTF_1.20.0.tar.gz PackageFileSize: 3.847 MiB