Package: CausalR Version: 1.40.0 Command: /home/biocbuild/R/R/bin/R CMD INSTALL CausalR StartedAt: 2025-10-13 20:16:10 -0000 (Mon, 13 Oct 2025) EndedAt: 2025-10-13 20:16:18 -0000 (Mon, 13 Oct 2025) EllapsedTime: 7.7 seconds RetCode: 0 Status: OK