Package: CardinalIO Version: 1.6.0 Command: /home/biocbuild/R/R/bin/R CMD INSTALL CardinalIO StartedAt: 2025-10-13 20:24:27 -0000 (Mon, 13 Oct 2025) EndedAt: 2025-10-13 20:24:52 -0000 (Mon, 13 Oct 2025) EllapsedTime: 25.7 seconds RetCode: 0 Status: OK