Package: CardinalIO Version: 1.6.0 Command: /home/biocbuild/R/R/bin/R CMD build --keep-empty-dirs --no-resave-data CardinalIO StartedAt: 2025-10-13 23:21:38 -0000 (Mon, 13 Oct 2025) EndedAt: 2025-10-13 23:22:15 -0000 (Mon, 13 Oct 2025) EllapsedTime: 37.0 seconds RetCode: 0 Status: OK PackageFile: CardinalIO_1.6.0.tar.gz PackageFileSize: 997.4 KiB