Package: CardinalIO Version: 1.6.0 Command: /Library/Frameworks/R.framework/Resources/bin/R CMD build --keep-empty-dirs --no-resave-data CardinalIO StartedAt: 2025-10-13 20:30:41 -0400 (Mon, 13 Oct 2025) EndedAt: 2025-10-13 20:31:13 -0400 (Mon, 13 Oct 2025) EllapsedTime: 32.1 seconds RetCode: 0 Status: OK PackageFile: CardinalIO_1.6.0.tar.gz PackageFileSize: 968.4 KiB