Package: CardinalIO Version: 1.6.0 Command: rm -rf CardinalIO.buildbin-libdir && mkdir CardinalIO.buildbin-libdir && /Users/biocbuild/BBS/utils/build-universal.sh CardinalIO_1.6.0.tar.gz /Library/Frameworks/R.framework/Resources/bin/R CardinalIO.buildbin-libdir StartedAt: 2025-10-15 17:42:56 -0400 (Wed, 15 Oct 2025) EndedAt: 2025-10-15 17:43:17 -0400 (Wed, 15 Oct 2025) EllapsedTime: 21.3 seconds RetCode: 0 Status: OK PackageFile: CardinalIO_1.6.0.tgz PackageFileSize: 1.242 MiB