Package: Cardinal Version: 3.10.0 Command: /home/biocbuild/R/R/bin/R CMD INSTALL Cardinal StartedAt: 2025-10-13 20:24:52 -0000 (Mon, 13 Oct 2025) EndedAt: 2025-10-13 20:25:32 -0000 (Mon, 13 Oct 2025) EllapsedTime: 39.0 seconds RetCode: 0 Status: OK