Package: CaMutQC Version: 1.4.5 Command: /home/biocbuild/bbs-3.21-bioc/R/bin/R CMD INSTALL CaMutQC StartedAt: 2025-10-15 15:48:42 -0400 (Wed, 15 Oct 2025) EndedAt: 2025-10-15 15:49:10 -0400 (Wed, 15 Oct 2025) EllapsedTime: 28.1 seconds RetCode: 0 Status: OK