Package: CaMutQC Version: 1.4.5 Command: /home/biocbuild/R/R/bin/R CMD INSTALL CaMutQC StartedAt: 2025-10-13 21:07:36 -0000 (Mon, 13 Oct 2025) EndedAt: 2025-10-13 21:08:16 -0000 (Mon, 13 Oct 2025) EllapsedTime: 40.7 seconds RetCode: 0 Status: OK