Package: CSSQ Version: 1.20.0 Command: /Library/Frameworks/R.framework/Resources/bin/R CMD INSTALL CSSQ StartedAt: 2025-10-13 16:08:56 -0400 (Mon, 13 Oct 2025) EndedAt: 2025-10-13 16:10:11 -0400 (Mon, 13 Oct 2025) EllapsedTime: 74.9 seconds RetCode: 0 Status: OK