Package: CSSQ Version: 1.20.0 Command: /Library/Frameworks/R.framework/Resources/bin/R CMD build --keep-empty-dirs --no-resave-data CSSQ StartedAt: 2025-10-13 18:15:02 -0400 (Mon, 13 Oct 2025) EndedAt: 2025-10-13 18:17:18 -0400 (Mon, 13 Oct 2025) EllapsedTime: 136.3 seconds RetCode: 0 Status: OK PackageFile: CSSQ_1.20.0.tar.gz PackageFileSize: 866.3 KiB