Package: CSSQ Version: 1.20.0 Command: /home/biocbuild/R/R/bin/R CMD build --keep-empty-dirs --no-resave-data CSSQ StartedAt: 2025-10-13 23:59:07 -0000 (Mon, 13 Oct 2025) EndedAt: 2025-10-14 00:00:33 -0000 (Tue, 14 Oct 2025) EllapsedTime: 86.0 seconds RetCode: 0 Status: OK PackageFile: CSSQ_1.20.0.tar.gz PackageFileSize: 866.4 KiB