Package: CSSQ Version: 1.20.0 Command: /Library/Frameworks/R.framework/Resources/bin/R CMD INSTALL CSSQ StartedAt: 2025-10-13 17:12:28 -0400 (Mon, 13 Oct 2025) EndedAt: 2025-10-13 17:13:11 -0400 (Mon, 13 Oct 2025) EllapsedTime: 43.0 seconds RetCode: 0 Status: OK