Package: CSSQ Version: 1.20.0 Command: rm -rf CSSQ.buildbin-libdir && mkdir CSSQ.buildbin-libdir && /Users/biocbuild/BBS/utils/build-universal.sh CSSQ_1.20.0.tar.gz /Library/Frameworks/R.framework/Resources/bin/R CSSQ.buildbin-libdir StartedAt: 2025-10-15 18:04:41 -0400 (Wed, 15 Oct 2025) EndedAt: 2025-10-15 18:05:29 -0400 (Wed, 15 Oct 2025) EllapsedTime: 47.6 seconds RetCode: 0 Status: OK PackageFile: CSSQ_1.20.0.tgz PackageFileSize: 926.5 KiB