Package: CSAR Version: 1.60.0 Command: /home/biocbuild/bbs-3.21-bioc/R/bin/R CMD build --keep-empty-dirs --no-resave-data CSAR StartedAt: 2025-10-15 16:59:19 -0400 (Wed, 15 Oct 2025) EndedAt: 2025-10-15 16:59:47 -0400 (Wed, 15 Oct 2025) EllapsedTime: 28.0 seconds RetCode: 0 Status: OK PackageFile: CSAR_1.60.0.tar.gz PackageFileSize: 233.7 KiB