Package: CSAR Version: 1.60.0 Command: /Library/Frameworks/R.framework/Resources/bin/R CMD INSTALL CSAR StartedAt: 2025-10-13 16:46:41 -0400 (Mon, 13 Oct 2025) EndedAt: 2025-10-13 16:47:02 -0400 (Mon, 13 Oct 2025) EllapsedTime: 21.1 seconds RetCode: 0 Status: OK