Package: CSAR Version: 1.60.0 Command: /home/biocbuild/R/R/bin/R CMD INSTALL CSAR StartedAt: 2025-10-13 21:14:10 -0000 (Mon, 13 Oct 2025) EndedAt: 2025-10-13 21:14:23 -0000 (Mon, 13 Oct 2025) EllapsedTime: 13.5 seconds RetCode: 0 Status: OK