Package: CSAR Version: 1.60.0 Command: /home/biocbuild/R/R/bin/R CMD build --keep-empty-dirs --no-resave-data CSAR StartedAt: 2025-10-13 23:58:14 -0000 (Mon, 13 Oct 2025) EndedAt: 2025-10-13 23:58:50 -0000 (Mon, 13 Oct 2025) EllapsedTime: 36.0 seconds RetCode: 0 Status: OK PackageFile: CSAR_1.60.0.tar.gz PackageFileSize: 226.5 KiB