Package: CSAR Version: 1.60.0 Command: /Library/Frameworks/R.framework/Resources/bin/R CMD build --keep-empty-dirs --no-resave-data CSAR StartedAt: 2025-10-13 22:14:46 -0400 (Mon, 13 Oct 2025) EndedAt: 2025-10-13 22:15:33 -0400 (Mon, 13 Oct 2025) EllapsedTime: 47.0 seconds RetCode: 0 Status: OK PackageFile: CSAR_1.60.0.tar.gz PackageFileSize: 233.6 KiB