Package: CRImage Version: 1.56.0 Command: /home/biocbuild/bbs-3.21-bioc/R/bin/R CMD build --keep-empty-dirs --no-resave-data CRImage StartedAt: 2025-10-15 16:57:00 -0400 (Wed, 15 Oct 2025) EndedAt: 2025-10-15 16:57:22 -0400 (Wed, 15 Oct 2025) EllapsedTime: 22.0 seconds RetCode: 0 Status: OK PackageFile: CRImage_1.56.0.tar.gz PackageFileSize: 7.653 MiB