Package: CRImage Version: 1.56.0 Command: /Library/Frameworks/R.framework/Resources/bin/R CMD INSTALL CRImage StartedAt: 2025-10-13 15:22:31 -0400 (Mon, 13 Oct 2025) EndedAt: 2025-10-13 15:22:51 -0400 (Mon, 13 Oct 2025) EllapsedTime: 20.3 seconds RetCode: 0 Status: OK