Package: CRImage Version: 1.56.0 Command: /Library/Frameworks/R.framework/Resources/bin/R CMD build --keep-empty-dirs --no-resave-data CRImage StartedAt: 2025-10-13 18:11:01 -0400 (Mon, 13 Oct 2025) EndedAt: 2025-10-13 18:11:55 -0400 (Mon, 13 Oct 2025) EllapsedTime: 54.1 seconds RetCode: 0 Status: OK PackageFile: CRImage_1.56.0.tar.gz PackageFileSize: 7.65 MiB