Package: CRImage Version: 1.56.0 Command: rm -rf CRImage.buildbin-libdir && mkdir CRImage.buildbin-libdir && /Users/biocbuild/BBS/utils/build-universal.sh CRImage_1.56.0.tar.gz /Library/Frameworks/R.framework/Resources/bin/R CRImage.buildbin-libdir StartedAt: 2025-10-14 13:08:40 -0400 (Tue, 14 Oct 2025) EndedAt: 2025-10-14 13:09:09 -0400 (Tue, 14 Oct 2025) EllapsedTime: 29.2 seconds RetCode: 0 Status: OK PackageFile: CRImage_1.56.0.tgz PackageFileSize: 6.549 MiB