Package: CRImage Version: 1.56.0 Command: /home/biocbuild/R/R/bin/R CMD INSTALL CRImage StartedAt: 2025-10-13 20:24:13 -0000 (Mon, 13 Oct 2025) EndedAt: 2025-10-13 20:24:28 -0000 (Mon, 13 Oct 2025) EllapsedTime: 15.1 seconds RetCode: 0 Status: OK