Package: CRImage Version: 1.56.0 Command: /Library/Frameworks/R.framework/Resources/bin/R CMD INSTALL CRImage StartedAt: 2025-10-13 15:38:04 -0400 (Mon, 13 Oct 2025) EndedAt: 2025-10-13 15:38:16 -0400 (Mon, 13 Oct 2025) EllapsedTime: 12.0 seconds RetCode: 0 Status: OK