Package: CRImage Version: 1.56.0 Command: /Library/Frameworks/R.framework/Resources/bin/R CMD build --keep-empty-dirs --no-resave-data CRImage StartedAt: 2025-10-13 22:06:07 -0400 (Mon, 13 Oct 2025) EndedAt: 2025-10-13 22:06:39 -0400 (Mon, 13 Oct 2025) EllapsedTime: 32.2 seconds RetCode: 0 Status: OK PackageFile: CRImage_1.56.0.tar.gz PackageFileSize: 7.651 MiB