Package: CRISPRball Version: 1.4.0 Command: /home/biocbuild/R/R/bin/R CMD build --keep-empty-dirs --no-resave-data CRISPRball StartedAt: 2025-10-13 23:54:51 -0000 (Mon, 13 Oct 2025) EndedAt: 2025-10-13 23:55:46 -0000 (Mon, 13 Oct 2025) EllapsedTime: 55.0 seconds RetCode: 0 Status: OK PackageFile: CRISPRball_1.4.0.tar.gz PackageFileSize: 2.68 MiB