Package: CPSM Version: 1.0.0 Command: rm -rf CPSM.buildbin-libdir && mkdir CPSM.buildbin-libdir && /Users/biocbuild/BBS/utils/build-universal.sh CPSM_1.0.0.tar.gz /Library/Frameworks/R.framework/Resources/bin/R CPSM.buildbin-libdir StartedAt: 2025-10-14 13:08:32 -0400 (Tue, 14 Oct 2025) EndedAt: 2025-10-14 13:09:48 -0400 (Tue, 14 Oct 2025) EllapsedTime: 75.3 seconds RetCode: 0 Status: OK PackageFile: CPSM_1.0.0.tgz PackageFileSize: 4.621 MiB