Package: COSNet Version: 1.42.0 Command: /home/biocbuild/bbs-3.21-bioc/R/bin/R CMD INSTALL COSNet StartedAt: 2025-10-15 15:06:52 -0400 (Wed, 15 Oct 2025) EndedAt: 2025-10-15 15:07:13 -0400 (Wed, 15 Oct 2025) EllapsedTime: 21.3 seconds RetCode: 0 Status: OK