Package: COSNet Version: 1.42.0 Command: /Library/Frameworks/R.framework/Resources/bin/R CMD INSTALL COSNet StartedAt: 2025-10-13 15:13:35 -0400 (Mon, 13 Oct 2025) EndedAt: 2025-10-13 15:14:10 -0400 (Mon, 13 Oct 2025) EllapsedTime: 34.8 seconds RetCode: 0 Status: OK