Package: COSNet Version: 1.42.0 Command: /Library/Frameworks/R.framework/Resources/bin/R CMD build --keep-empty-dirs --no-resave-data COSNet StartedAt: 2025-10-13 18:09:42 -0400 (Mon, 13 Oct 2025) EndedAt: 2025-10-13 18:13:01 -0400 (Mon, 13 Oct 2025) EllapsedTime: 198.9 seconds RetCode: 0 Status: OK PackageFile: COSNet_1.42.0.tar.gz PackageFileSize: 518.8 KiB