Package: COSNet Version: 1.42.0 Command: /home/biocbuild/R/R/bin/R CMD INSTALL COSNet StartedAt: 2025-10-13 20:18:17 -0000 (Mon, 13 Oct 2025) EndedAt: 2025-10-13 20:18:44 -0000 (Mon, 13 Oct 2025) EllapsedTime: 27.7 seconds RetCode: 0 Status: OK