Package: COSNet Version: 1.42.0 Command: /Library/Frameworks/R.framework/Resources/bin/R CMD build --keep-empty-dirs --no-resave-data COSNet StartedAt: 2025-10-13 22:00:28 -0400 (Mon, 13 Oct 2025) EndedAt: 2025-10-13 22:02:52 -0400 (Mon, 13 Oct 2025) EllapsedTime: 143.8 seconds RetCode: 0 Status: OK PackageFile: COSNet_1.42.0.tar.gz PackageFileSize: 520 KiB